BEGIN:VCALENDAR
VERSION:2.0
PRODID:-//Tukios.com/
BEGIN:VEVENT
UID:12fa08c1-7fc4-4f9e-8229-06faf4c47152@www.tollefsonfuneralhome.com
DTSTAMP:20260423T191630Z
DTSTART:20260513T160000Z
DTEND:20260513T170000Z
SUMMARY:Memorial Service
DESCRIPTION:
URL:https://www.tollefsonfuneralhome.com/obituaries/gertrude-trudy-wippler
LOCATION: 220 Main Street  Fordville ND 58231
GEO:48.2182723;-97.7903058
END:VEVENT
END:VCALENDAR