BEGIN:VCALENDAR
VERSION:2.0
PRODID:-//Tukios.com/
BEGIN:VEVENT
UID:362546d8-fcb3-4962-b13d-a258dc3cb2b9@www.tollefsonfuneralhome.com
DTSTAMP:20260423T191615Z
DTSTART:20260513T150000Z
DTEND:20260513T160000Z
SUMMARY:Visitation
DESCRIPTION:
URL:https://www.tollefsonfuneralhome.com/obituaries/gertrude-trudy-wippler
LOCATION: 220 Main Street  Fordville ND 58231
GEO:48.2182723;-97.7903058
END:VEVENT
END:VCALENDAR